BEGIN:VCALENDAR
VERSION:2.0
PRODID:-//Kidsave - ECPv6.15.20//NONSGML v1.0//EN
CALSCALE:GREGORIAN
METHOD:PUBLISH
X-WR-CALNAME:Kidsave
X-ORIGINAL-URL:https://www.kidsave.org
X-WR-CALDESC:Events for Kidsave
REFRESH-INTERVAL;VALUE=DURATION:PT1H
X-Robots-Tag:noindex
X-PUBLISHED-TTL:PT1H
BEGIN:VTIMEZONE
TZID:America/Chicago
BEGIN:DAYLIGHT
TZOFFSETFROM:-0600
TZOFFSETTO:-0500
TZNAME:CDT
DTSTART:20250309T080000
END:DAYLIGHT
BEGIN:STANDARD
TZOFFSETFROM:-0500
TZOFFSETTO:-0600
TZNAME:CST
DTSTART:20251102T070000
END:STANDARD
BEGIN:DAYLIGHT
TZOFFSETFROM:-0600
TZOFFSETTO:-0500
TZNAME:CDT
DTSTART:20260308T080000
END:DAYLIGHT
BEGIN:STANDARD
TZOFFSETFROM:-0500
TZOFFSETTO:-0600
TZNAME:CST
DTSTART:20261101T070000
END:STANDARD
BEGIN:DAYLIGHT
TZOFFSETFROM:-0600
TZOFFSETTO:-0500
TZNAME:CDT
DTSTART:20270314T080000
END:DAYLIGHT
BEGIN:STANDARD
TZOFFSETFROM:-0500
TZOFFSETTO:-0600
TZNAME:CST
DTSTART:20271107T070000
END:STANDARD
END:VTIMEZONE
BEGIN:VEVENT
DTSTART;TZID=America/Chicago:20260422T120000
DTEND;TZID=America/Chicago:20260422T130000
DTSTAMP:20260422T045647
CREATED:20260123T145852Z
LAST-MODIFIED:20260123T150704Z
UID:43141-1776859200-1776862800@www.kidsave.org
SUMMARY:Houston Weekend Miracles Orientation
DESCRIPTION:Learn more about Kidsave and the Weekend Miracles Houston\nLearn more about Kidsave and the Weekend Miracles Houston program by attending one of our monthly webinar orientations. \nRSVP BELOW \nOrientations are a brief overview of the Weekend Miracles Houston program and how you can get involved as a Host or Volunteer. Attending an orientation is also the first step to participating in one of our Kidsave Weekend Miracles advocacy events. \nOnce you have RSVP’d below\, please be sure to view our Weekend Miracles video by going to:\nWeekend Miracles Video \nRegister below in advance for this meeting. \nHOW TO ATTEND THE ZOOM MEETING \nAfter registering\, the zoom meeting link will be sent to those who RSVP'd within 24 hours of the start time. Thank you for understanding.
URL:https://www.kidsave.org/event/houston-wm-orientation-4-22/
LOCATION:Online Webinar
CATEGORIES:Weekend Miracles,Weekend Miracles Houston,Weekend Miracles Orientation
ATTACH;FMTTYPE=image/jpeg:https://www.kidsave.org/wp-content/uploads/2024/08/Kidsave-WM-Houston-Calendar-Image.jpg.optimal.jpg
ORGANIZER;CN="Ashlee Evans":MAILTO:ashlee@kidsave.org
END:VEVENT
END:VCALENDAR