BEGIN:VCALENDAR
VERSION:2.0
PRODID:-//Kidsave - ECPv6.15.20//NONSGML v1.0//EN
CALSCALE:GREGORIAN
METHOD:PUBLISH
X-WR-CALNAME:Kidsave
X-ORIGINAL-URL:https://www.kidsave.org
X-WR-CALDESC:Events for Kidsave
REFRESH-INTERVAL;VALUE=DURATION:PT1H
X-Robots-Tag:noindex
X-PUBLISHED-TTL:PT1H
BEGIN:VTIMEZONE
TZID:America/Los_Angeles
BEGIN:DAYLIGHT
TZOFFSETFROM:-0800
TZOFFSETTO:-0700
TZNAME:PDT
DTSTART:20250309T100000
END:DAYLIGHT
BEGIN:STANDARD
TZOFFSETFROM:-0700
TZOFFSETTO:-0800
TZNAME:PST
DTSTART:20251102T090000
END:STANDARD
BEGIN:DAYLIGHT
TZOFFSETFROM:-0800
TZOFFSETTO:-0700
TZNAME:PDT
DTSTART:20260308T100000
END:DAYLIGHT
BEGIN:STANDARD
TZOFFSETFROM:-0700
TZOFFSETTO:-0800
TZNAME:PST
DTSTART:20261101T090000
END:STANDARD
BEGIN:DAYLIGHT
TZOFFSETFROM:-0800
TZOFFSETTO:-0700
TZNAME:PDT
DTSTART:20270314T100000
END:DAYLIGHT
BEGIN:STANDARD
TZOFFSETFROM:-0700
TZOFFSETTO:-0800
TZNAME:PST
DTSTART:20271107T090000
END:STANDARD
END:VTIMEZONE
BEGIN:VTIMEZONE
TZID:America/Chicago
BEGIN:DAYLIGHT
TZOFFSETFROM:-0600
TZOFFSETTO:-0500
TZNAME:CDT
DTSTART:20250309T080000
END:DAYLIGHT
BEGIN:STANDARD
TZOFFSETFROM:-0500
TZOFFSETTO:-0600
TZNAME:CST
DTSTART:20251102T070000
END:STANDARD
BEGIN:DAYLIGHT
TZOFFSETFROM:-0600
TZOFFSETTO:-0500
TZNAME:CDT
DTSTART:20260308T080000
END:DAYLIGHT
BEGIN:STANDARD
TZOFFSETFROM:-0500
TZOFFSETTO:-0600
TZNAME:CST
DTSTART:20261101T070000
END:STANDARD
BEGIN:DAYLIGHT
TZOFFSETFROM:-0600
TZOFFSETTO:-0500
TZNAME:CDT
DTSTART:20270314T080000
END:DAYLIGHT
BEGIN:STANDARD
TZOFFSETFROM:-0500
TZOFFSETTO:-0600
TZNAME:CST
DTSTART:20271107T070000
END:STANDARD
END:VTIMEZONE
BEGIN:VEVENT
DTSTART;TZID=America/Los_Angeles:20260423T130000
DTEND;TZID=America/Los_Angeles:20260423T140000
DTSTAMP:20260423T030836
CREATED:20251119T221822Z
LAST-MODIFIED:20260123T193120Z
UID:42241-1776949200-1776952800@www.kidsave.org
SUMMARY:Summer/Winter Miracles Orientation Webinar
DESCRIPTION:Learn more about Kidsave and the Summer Miracles program by attending this live orientation at 1pm PST/4pm EST.\nJoin us for a Summer Miracles orientation. During this webinar\, you will learn about the requirements and steps to host\, our agency partners\, and our Summer Miracles Kids! You’ll also have the opportunity to ask questions and gain insight from our Summer Miracles Consultant\, Carolina.\n\nATTENDANCE DETAILS:\nRSVP below to let us know you're attending. You must include all information on the RSVP form.\nPlease join my ZOOM meeting from your computer\, tablet or smartphone.\nZoom Meeting ID: 892 192 681\nZoom Meeting Link:https://zoom.us/j/8921921681?pwd=cE9WMUZvaWM3TndJYy9FelhNZk15UT09\nZoom Meeting Passcode: 609355
URL:https://www.kidsave.org/event/summer-winter-miracles-orientation-webinar-4-21-26/
LOCATION:Online Webinar
CATEGORIES:Summer/Winter Miracles,Summer/Winter Miracles Orientation
ATTACH;FMTTYPE=image/jpeg:https://www.kidsave.org/wp-content/uploads/2024/08/Kidsave-Summer-Miracles-Calendar-Image.jpg.optimal.jpg
ORGANIZER;CN="Carolina Moreno":MAILTO:carolina@kidsave.org
END:VEVENT
BEGIN:VEVENT
DTSTART;TZID=America/Chicago:20260423T180000
DTEND;TZID=America/Chicago:20260423T193000
DTSTAMP:20260423T030836
CREATED:20260327T144918Z
LAST-MODIFIED:20260327T144918Z
UID:44146-1776967200-1776972600@www.kidsave.org
SUMMARY:Houston Weekend Miracles Program and Advocacy Training
DESCRIPTION:Thank you for your interest in becoming a Weekend Miracles Host!\nRSVP for the Program & Advocacy training below.\nWhen you attend our Program & Advocacy web-based training you will learn more about the Kidsave Weekend Miracles program and what it means to be a Host/Advocate for a youth in the foster care system.\nIf you haven’t already done so\, please be sure to view our Weekend Miracles video by going to: https://www.youtube.com/watch?v=Uw4Tv9xO3N0\n\nIn order to participate\, families must have completed the following prior to sign up:\n\nWeekend Miracles Orientation\nWeekend Miracles Host Application\nHave been contacted by a Kidsave staff member\nFour-part Host Training (For some\, this requirement may have been waived if you are RFA approved.)\n\nProgram and Advocacy Training takes place via an online webinar.\n\nHOW TO ATTEND:\nZoom information will be provided within 48 hours of the event to registered participants only.\nPlease note:\nTo participate you must be on a system that has both audio and video capabilities.
URL:https://www.kidsave.org/event/houston-wm-program-and-advocacy-training-4-23/
LOCATION:Online Webinar
CATEGORIES:Weekend Miracles,Weekend Miracles Orientation,Weekend Miracles Virginia
ATTACH;FMTTYPE=image/png:https://www.kidsave.org/wp-content/uploads/2024/08/Calendar-WM-Virginia-Programs.png
ORGANIZER;CN="Ashlee Evans":MAILTO:ashlee@kidsave.org
END:VEVENT
END:VCALENDAR