BEGIN:VCALENDAR
VERSION:2.0
PRODID:-//Kidsave - ECPv6.15.20//NONSGML v1.0//EN
CALSCALE:GREGORIAN
METHOD:PUBLISH
X-WR-CALNAME:Kidsave
X-ORIGINAL-URL:https://www.kidsave.org
X-WR-CALDESC:Events for Kidsave
REFRESH-INTERVAL;VALUE=DURATION:PT1H
X-Robots-Tag:noindex
X-PUBLISHED-TTL:PT1H
BEGIN:VTIMEZONE
TZID:America/Los_Angeles
BEGIN:DAYLIGHT
TZOFFSETFROM:-0800
TZOFFSETTO:-0700
TZNAME:PDT
DTSTART:20250309T100000
END:DAYLIGHT
BEGIN:STANDARD
TZOFFSETFROM:-0700
TZOFFSETTO:-0800
TZNAME:PST
DTSTART:20251102T090000
END:STANDARD
BEGIN:DAYLIGHT
TZOFFSETFROM:-0800
TZOFFSETTO:-0700
TZNAME:PDT
DTSTART:20260308T100000
END:DAYLIGHT
BEGIN:STANDARD
TZOFFSETFROM:-0700
TZOFFSETTO:-0800
TZNAME:PST
DTSTART:20261101T090000
END:STANDARD
BEGIN:DAYLIGHT
TZOFFSETFROM:-0800
TZOFFSETTO:-0700
TZNAME:PDT
DTSTART:20270314T100000
END:DAYLIGHT
BEGIN:STANDARD
TZOFFSETFROM:-0700
TZOFFSETTO:-0800
TZNAME:PST
DTSTART:20271107T090000
END:STANDARD
END:VTIMEZONE
BEGIN:VTIMEZONE
TZID:America/Chicago
BEGIN:DAYLIGHT
TZOFFSETFROM:-0600
TZOFFSETTO:-0500
TZNAME:CDT
DTSTART:20250309T080000
END:DAYLIGHT
BEGIN:STANDARD
TZOFFSETFROM:-0500
TZOFFSETTO:-0600
TZNAME:CST
DTSTART:20251102T070000
END:STANDARD
BEGIN:DAYLIGHT
TZOFFSETFROM:-0600
TZOFFSETTO:-0500
TZNAME:CDT
DTSTART:20260308T080000
END:DAYLIGHT
BEGIN:STANDARD
TZOFFSETFROM:-0500
TZOFFSETTO:-0600
TZNAME:CST
DTSTART:20261101T070000
END:STANDARD
BEGIN:DAYLIGHT
TZOFFSETFROM:-0600
TZOFFSETTO:-0500
TZNAME:CDT
DTSTART:20270314T080000
END:DAYLIGHT
BEGIN:STANDARD
TZOFFSETFROM:-0500
TZOFFSETTO:-0600
TZNAME:CST
DTSTART:20271107T070000
END:STANDARD
END:VTIMEZONE
BEGIN:VEVENT
DTSTART;TZID=America/Los_Angeles:20260512T160000
DTEND;TZID=America/Los_Angeles:20260512T170000
DTSTAMP:20260423T201838
CREATED:20251212T194852Z
LAST-MODIFIED:20260414T204340Z
UID:42615-1778601600-1778605200@www.kidsave.org
SUMMARY:Kidsave Volunteer Orientation
DESCRIPTION:Learn more about Kidsave and all of our volunteer opportunities by attending one of our live webinar orientations.\n\nRSVP BELOW – Please note – Pacific Time Zone\n\nOrientations are a brief overview of the Kidsave programs and how you can get involved as a Volunteer.\n\n\nDETAILS\n\nA link will be provided via email to all registered participants.
URL:https://www.kidsave.org/event/volunteer-orientation-5-12/
LOCATION:Online Webinar
CATEGORIES:Kidsave Special Events, Galas, and Fundraisers
ATTACH;FMTTYPE=image/jpeg:https://www.kidsave.org/wp-content/uploads/2023/03/CalendarVolunteer.jpg.optimal.jpg
ORGANIZER;CN="Jeanette Roman":MAILTO:jeanette@kidsave.org
END:VEVENT
BEGIN:VEVENT
DTSTART;TZID=America/Los_Angeles:20260528T173000
DTEND;TZID=America/Los_Angeles:20260528T210000
DTSTAMP:20260423T201838
CREATED:20251203T173335Z
LAST-MODIFIED:20260414T203317Z
UID:41785-1779989400-1780002000@www.kidsave.org
SUMMARY:Kidsave Miracles Gala - DC
DESCRIPTION:Kidsave Miracles Gala – DC \nAt Kidsave\, all connections begin with “Yes.”\nFrom our kids bravely saying “Yes” to finding a mentor or adoptive family.\nTo our hosts and families\, stepping up and saying “Yes” to opening their hearts and homes\nand making a positive impact in the life of a child in care. \n“Yes” is the start of something new.\nThe power to make a difference. \nNow is your chance to say “Yes.” \nJoin us on May 28\, 2026\, at the National Housing Center for a night to say “Yes” to older foster youth.
URL:https://www.kidsave.org/event/gala-dc-2026/
LOCATION:National Housing Center 1201 15th Street\, N.W.\, Washington\, D.C. 20005\, 1201 15th Street NW\, Washington\, DC\, 20005\, United States
CATEGORIES:Kidsave Special Events, Galas, and Fundraisers
ATTACH;FMTTYPE=image/png:https://www.kidsave.org/wp-content/uploads/2025/10/Calander-image-e1764783069568.png
ORGANIZER;CN="Jenny Lawhorn Sammis":MAILTO:jenny@kidsave.org
END:VEVENT
BEGIN:VEVENT
DTSTART;TZID=America/Los_Angeles:20260606T180000
DTEND;TZID=America/Los_Angeles:20260606T210000
DTSTAMP:20260423T201838
CREATED:20260126T171717Z
LAST-MODIFIED:20260126T171717Z
UID:41788-1780768800-1780779600@www.kidsave.org
SUMMARY:Kidsave Miracles Gala - LA
DESCRIPTION:Kidsave Miracles Gala – LA \nAt Kidsave\, all connections begin with “Yes.”\nFrom our kids bravely saying “Yes” to finding a mentor or adoptive family.\nTo our hosts and families\, stepping up and saying “Yes” to opening their hearts and homes\nand making a positive impact in the life of a child in care. \n“Yes” is the start of something new.\nThe power to make a difference. \nNow is your chance to say “Yes.” \nJoin us on June 6\, 2026\, at the Majestic Metro for a night to say “Yes” to older foster youth.
URL:https://www.kidsave.org/event/kidsave-miracles-gala-la/
LOCATION:Skirball Cultural Center\, 2701 N Sepulveda Blvd.\, Los Angeles\, CA\, 90049
CATEGORIES:Kidsave Special Events, Galas, and Fundraisers
ATTACH;FMTTYPE=image/png:https://www.kidsave.org/wp-content/uploads/2025/10/Calander-image-e1764783069568.png
ORGANIZER;CN="Genesis Diaz":MAILTO:genesis@kidsave.org
END:VEVENT
BEGIN:VEVENT
DTSTART;TZID=America/Los_Angeles:20260609T160000
DTEND;TZID=America/Los_Angeles:20260609T170000
DTSTAMP:20260423T201838
CREATED:20251212T195015Z
LAST-MODIFIED:20260414T204123Z
UID:42617-1781020800-1781024400@www.kidsave.org
SUMMARY:Kidsave Volunteer Orientation
DESCRIPTION:Learn more about Kidsave and all of our volunteer opportunities by attending one of our live webinar orientations.\n\nRSVP BELOW – Please note – Pacific Time Zone\n\nOrientations are a brief overview of the Kidsave programs and how you can get involved as a Volunteer.\n\n\nDETAILS\n\nA link will be provided via email to all registered participants.
URL:https://www.kidsave.org/event/volunteer-orientation-6-9/
LOCATION:Online Webinar
CATEGORIES:Kidsave Special Events, Galas, and Fundraisers
ATTACH;FMTTYPE=image/jpeg:https://www.kidsave.org/wp-content/uploads/2023/03/CalendarVolunteer.jpg.optimal.jpg
ORGANIZER;CN="Jeanette Roman":MAILTO:jeanette@kidsave.org
END:VEVENT
BEGIN:VEVENT
DTSTART;TZID=America/Chicago:20260620T180000
DTEND;TZID=America/Chicago:20260620T210000
DTSTAMP:20260423T201838
CREATED:20260126T171934Z
LAST-MODIFIED:20260205T172203Z
UID:41786-1781978400-1781989200@www.kidsave.org
SUMMARY:Kidsave Miracles Gala - Houston
DESCRIPTION:Kidsave Miracles Gala – Houston \nAt Kidsave\, all connections begin with “Yes.”\nFrom our kids bravely saying “Yes” to finding a mentor or adoptive family.\nTo our hosts and families\, stepping up and saying “Yes” to opening their hearts and homes\nand making a positive impact in the life of a child in care. \n“Yes” is the start of something new.\nThe power to make a difference. \nNow is your chance to say “Yes.” \nJoin us on May 30\, 2026\, at the Majestic Metro for a night to say “Yes” to older foster youth.
URL:https://www.kidsave.org/event/kidsave-miracles-gala-tx/
LOCATION:Majestic Metro\, 911 Preston St.\, Houston\, TX\, 77002\, United States
CATEGORIES:Kidsave Special Events, Galas, and Fundraisers
ATTACH;FMTTYPE=image/png:https://www.kidsave.org/wp-content/uploads/2025/10/Calander-image-e1764783069568.png
ORGANIZER;CN="Tabitha Charlton":MAILTO:tabithac@kidsave.org
END:VEVENT
BEGIN:VEVENT
DTSTART;TZID=America/Los_Angeles:20260714T160000
DTEND;TZID=America/Los_Angeles:20260714T170000
DTSTAMP:20260423T201838
CREATED:20251212T195127Z
LAST-MODIFIED:20260414T204012Z
UID:42619-1784044800-1784048400@www.kidsave.org
SUMMARY:Kidsave Volunteer Orientation
DESCRIPTION:Learn more about Kidsave and all of our volunteer opportunities by attending one of our live webinar orientations.\n\nRSVP BELOW – Please note – Pacific Time Zone\n\nOrientations are a brief overview of the Kidsave programs and how you can get involved as a Volunteer.\n\n\nDETAILS\n\nA link will be provided via email to all registered participants.
URL:https://www.kidsave.org/event/volunteer-orientation-7-14/
LOCATION:Online Webinar
CATEGORIES:Kidsave Special Events, Galas, and Fundraisers
ATTACH;FMTTYPE=image/jpeg:https://www.kidsave.org/wp-content/uploads/2023/03/CalendarVolunteer.jpg.optimal.jpg
ORGANIZER;CN="Jeanette Roman":MAILTO:jeanette@kidsave.org
END:VEVENT
BEGIN:VEVENT
DTSTART;TZID=America/Los_Angeles:20260811T160000
DTEND;TZID=America/Los_Angeles:20260811T170000
DTSTAMP:20260423T201838
CREATED:20251212T195241Z
LAST-MODIFIED:20260414T203916Z
UID:42621-1786464000-1786467600@www.kidsave.org
SUMMARY:Kidsave Volunteer Orientation
DESCRIPTION:Learn more about Kidsave and all of our volunteer opportunities by attending one of our live webinar orientations.\n\nRSVP BELOW – Please note – Pacific Time Zone\n\nOrientations are a brief overview of the Kidsave programs and how you can get involved as a Volunteer.\n\n\nDETAILS\n\nA link will be provided via email to all registered participants.
URL:https://www.kidsave.org/event/volunteer-orientation-8-11/
LOCATION:Online Webinar
CATEGORIES:Kidsave Special Events, Galas, and Fundraisers
ATTACH;FMTTYPE=image/jpeg:https://www.kidsave.org/wp-content/uploads/2023/03/CalendarVolunteer.jpg.optimal.jpg
ORGANIZER;CN="Jeanette Roman":MAILTO:jeanette@kidsave.org
END:VEVENT
BEGIN:VEVENT
DTSTART;TZID=America/Los_Angeles:20260915T160000
DTEND;TZID=America/Los_Angeles:20260915T170000
DTSTAMP:20260423T201838
CREATED:20251212T195334Z
LAST-MODIFIED:20260414T203553Z
UID:42623-1789488000-1789491600@www.kidsave.org
SUMMARY:Kidsave Volunteer Orientation
DESCRIPTION:Learn more about Kidsave and all of our volunteer opportunities by attending one of our live webinar orientations.\n\nRSVP BELOW – Please note – Pacific Time Zone\n\nOrientations are a brief overview of the Kidsave programs and how you can get involved as a Volunteer.\n\n\nDETAILS\n\nA link will be provided via email to all registered participants.
URL:https://www.kidsave.org/event/volunteer-orientation-9-15/
LOCATION:Online Webinar
CATEGORIES:Kidsave Special Events, Galas, and Fundraisers
ATTACH;FMTTYPE=image/jpeg:https://www.kidsave.org/wp-content/uploads/2023/03/CalendarVolunteer.jpg.optimal.jpg
ORGANIZER;CN="Jeanette Roman":MAILTO:jeanette@kidsave.org
END:VEVENT
BEGIN:VEVENT
DTSTART;TZID=America/Los_Angeles:20260928T090000
DTEND;TZID=America/Los_Angeles:20260928T190000
DTSTAMP:20260423T201838
CREATED:20260422T194637Z
LAST-MODIFIED:20260422T194637Z
UID:44637-1790586000-1790622000@www.kidsave.org
SUMMARY:23rd Annual Kidsave Miracles Golf Classic
DESCRIPTION:Swing into action – it's time to hit the links!\nThe Annual Kidsave MiracleMakers Golf Classic is Back at Pacific Palms Resort!\nThe tournament will feature all the elements you love. Shotgun start at 10:30am\, on-course challenges and entertainment\, as well as great food and drinks. We will finish the night with a cocktail event open to all our sponsors\, players\, and your invited guests – so feel free to invite colleagues and friends to join you starting at 4:30 PM. \nRegister today and become a Champion and MiracleMaker for older kids and teens in foster care in their search for their forever family!
URL:https://www.kidsave.org/event/23-golf-classic/
LOCATION:Pacific Palms Resort Industry Hills Golf Course\, 1 Industry Hills Parkway\, City of Industry\, CA\, 91744
CATEGORIES:Kidsave Special Events, Galas, and Fundraisers
ATTACH;FMTTYPE=image/png:https://www.kidsave.org/wp-content/uploads/2026/04/Option-1.png
ORGANIZER;CN="Genesis Diaz":MAILTO:genesis@kidsave.org
END:VEVENT
BEGIN:VEVENT
DTSTART;TZID=America/Los_Angeles:20261013T160000
DTEND;TZID=America/Los_Angeles:20261013T170000
DTSTAMP:20260423T201838
CREATED:20251212T195604Z
LAST-MODIFIED:20260414T203756Z
UID:42625-1791907200-1791910800@www.kidsave.org
SUMMARY:Kidsave Volunteer Orientation
DESCRIPTION:Learn more about Kidsave and all of our volunteer opportunities by attending one of our live webinar orientations.\n\nRSVP BELOW – Please note – Pacific Time Zone\n\nOrientations are a brief overview of the Kidsave programs and how you can get involved as a Volunteer.\n\n\nDETAILS\n\nA link will be provided via email to all registered participants.
URL:https://www.kidsave.org/event/volunteer-orientation-10-13/
LOCATION:Online Webinar
CATEGORIES:Kidsave Special Events, Galas, and Fundraisers
ATTACH;FMTTYPE=image/jpeg:https://www.kidsave.org/wp-content/uploads/2023/03/CalendarVolunteer.jpg.optimal.jpg
ORGANIZER;CN="Jeanette Roman":MAILTO:jeanette@kidsave.org
END:VEVENT
BEGIN:VEVENT
DTSTART;TZID=America/Los_Angeles:20261024T083000
DTEND;TZID=America/Los_Angeles:20261024T120000
DTSTAMP:20260423T201838
CREATED:20260422T192902Z
LAST-MODIFIED:20260422T200412Z
UID:44626-1792830600-1792843200@www.kidsave.org
SUMMARY:Hike With Your Heart - Los Angeles
DESCRIPTION:A KIDSAVE TRADITION \nHike With Your Heart started in 2015 as a small grassroots effort in Los Angeles. \nOver the years\, it’s grown into a celebration of community that takes place in multiple cities across the nation. And\, for many participants\, Hike With Your Heart is a way to spend time with the families they have created by adopting or mentoring through Kidsave’s programs. \nThis year the hikes will take place on\nOctober 24 in Los Angeles\, CA and Richmond\, VA\, and November 7 in the Bay Area\, Houston\, TX\, and Washington\, D.C. \nIt all starts with YES – join us and make a difference for older kids in foster care!
URL:https://www.kidsave.org/event/kidsave-hike-2026-la/
LOCATION:Kenneth Hahn State Recreation Center\, 4100 S. La Cienega Blvd.\, Los Angeles\, CA\, 90056\, United States
CATEGORIES:Kidsave Special Events, Galas, and Fundraisers
ATTACH;FMTTYPE=image/png:https://www.kidsave.org/wp-content/uploads/2026/04/All-Cities-Back-Cover.png
ORGANIZER;CN="Genesis Diaz":MAILTO:genesis@kidsave.org
END:VEVENT
BEGIN:VEVENT
DTSTART;TZID=America/Los_Angeles:20261024T083000
DTEND;TZID=America/Los_Angeles:20261024T120000
DTSTAMP:20260423T201838
CREATED:20260422T201348Z
LAST-MODIFIED:20260422T201348Z
UID:44643-1792830600-1792843200@www.kidsave.org
SUMMARY:Hike With Your Heart - Richmond\, VA
DESCRIPTION:A KIDSAVE TRADITION \nHike With Your Heart started in 2015 as a small grassroots effort in Los Angeles. \nOver the years\, it’s grown into a celebration of community that takes place in multiple cities across the nation. And\, for many participants\, Hike With Your Heart is a way to spend time with the families they have created by adopting or mentoring through Kidsave’s programs. \nThis year the hikes will take place on\nOctober 24 in Los Angeles\, CA and Richmond\, VA\, and November 7 in the Bay Area\, Houston\, TX\, and Washington\, D.C. \nIt all starts with YES – join us and make a difference for older kids in foster care!
URL:https://www.kidsave.org/event/va-hike-with-your-heart/
LOCATION:TBD
CATEGORIES:Kidsave Special Events, Galas, and Fundraisers
ATTACH;FMTTYPE=image/png:https://www.kidsave.org/wp-content/uploads/2026/04/All-Cities-Back-Cover.png
ORGANIZER;CN="Jenny Lawhorn Sammis":MAILTO:jenny@kidsave.org
END:VEVENT
BEGIN:VEVENT
DTSTART;TZID=America/Chicago:20261107T083000
DTEND;TZID=America/Chicago:20261107T120000
DTSTAMP:20260423T201838
CREATED:20260422T200337Z
LAST-MODIFIED:20260422T200337Z
UID:44625-1794040200-1794052800@www.kidsave.org
SUMMARY:Hike With Your Heart - Houston
DESCRIPTION:A KIDSAVE TRADITION \nHike With Your Heart started in 2015 as a small grassroots effort in Los Angeles. \nOver the years\, it’s grown into a celebration of community that takes place in multiple cities across the nation. And\, for many participants\, Hike With Your Heart is a way to spend time with the families they have created by adopting or mentoring through Kidsave’s programs. \nThis year the hikes will take place on\nOctober 24 in Los Angeles\, CA and Richmond\, VA\, and November 7 in the Bay Area\, Houston\, TX\, and Washington\, D.C. \nIt all starts with YES – join us and make a difference for older kids in foster care!
URL:https://www.kidsave.org/event/houston-hike-with-your-heart/
LOCATION:Sugar Land Memorial Park\, 15300 University Blvd.\, Sugar Land\, TX\, 77479\, United States
CATEGORIES:Kidsave Special Events, Galas, and Fundraisers
ATTACH;FMTTYPE=image/png:https://www.kidsave.org/wp-content/uploads/2026/04/All-Cities-Back-Cover.png
ORGANIZER;CN="Tabitha Charlton":MAILTO:tabithac@kidsave.org
END:VEVENT
BEGIN:VEVENT
DTSTART;TZID=America/Los_Angeles:20261107T083000
DTEND;TZID=America/Los_Angeles:20261107T120000
DTSTAMP:20260423T201838
CREATED:20260422T201104Z
LAST-MODIFIED:20260422T201104Z
UID:44642-1794040200-1794052800@www.kidsave.org
SUMMARY:Hike With Your Heart - DC
DESCRIPTION:A KIDSAVE TRADITION \nHike With Your Heart started in 2015 as a small grassroots effort in Los Angeles. \nOver the years\, it’s grown into a celebration of community that takes place in multiple cities across the nation. And\, for many participants\, Hike With Your Heart is a way to spend time with the families they have created by adopting or mentoring through Kidsave’s programs. \nThis year the hikes will take place on\nOctober 24 in Los Angeles\, CA and Richmond\, VA\, and November 7 in the Bay Area\, Houston\, TX\, and Washington\, D.C. \nIt all starts with YES – join us and make a difference for older kids in foster care!
URL:https://www.kidsave.org/event/dc-hike-with-your-heart/
LOCATION:TBD
CATEGORIES:Kidsave Special Events, Galas, and Fundraisers
ATTACH;FMTTYPE=image/png:https://www.kidsave.org/wp-content/uploads/2026/04/All-Cities-Back-Cover.png
ORGANIZER;CN="Jenny Lawhorn Sammis":MAILTO:jenny@kidsave.org
END:VEVENT
BEGIN:VEVENT
DTSTART;TZID=America/Los_Angeles:20261107T083000
DTEND;TZID=America/Los_Angeles:20261107T123000
DTSTAMP:20260423T201838
CREATED:20260422T195819Z
LAST-MODIFIED:20260422T195819Z
UID:44640-1794040200-1794054600@www.kidsave.org
SUMMARY:Hike With Your Heart - Bay Area
DESCRIPTION:KIDSAVE TRADITION \nHike With Your Heart started in 2015 as a small grassroots effort in Los Angeles. \nOver the years\, it’s grown into a celebration of community that takes place in multiple cities across the nation. And\, for many participants\, Hike With Your Heart is a way to spend time with the families they have created by adopting or mentoring through Kidsave’s programs. \nThis year the hikes will take place on October 24 in Los Angeles\, CA and Richmond\, VA\, and November 7 in the Bay Area\, Houston\, TX\, and Washington\, D.C. \nIt all starts with YES – join us and make a difference for older kids in foster care!
URL:https://www.kidsave.org/event/bay-hike-with-your-heart/
LOCATION:Los Gatos Creek Trail (Meet at Los Gatos Veterans Memorial)\, 110 E Main St\, Los Gatos\, 95030\, United States
CATEGORIES:Kidsave Special Events, Galas, and Fundraisers
ATTACH;FMTTYPE=image/png:https://www.kidsave.org/wp-content/uploads/2026/04/All-Cities-Back-Cover.png
ORGANIZER;CN="Genesis Diaz":MAILTO:genesis@kidsave.org
END:VEVENT
BEGIN:VEVENT
DTSTART;TZID=America/Los_Angeles:20261110T160000
DTEND;TZID=America/Los_Angeles:20261110T170000
DTSTAMP:20260423T201838
CREATED:20251212T195708Z
LAST-MODIFIED:20260414T203703Z
UID:42627-1794326400-1794330000@www.kidsave.org
SUMMARY:Kidsave Volunteer Orientation
DESCRIPTION:Learn more about Kidsave and all of our volunteer opportunities by attending one of our live webinar orientations.\n\nRSVP BELOW – Please note – Pacific Time Zone\n\nOrientations are a brief overview of the Kidsave programs and how you can get involved as a Volunteer.\n\n\nDETAILS\n\nA link will be provided via email to all registered participants.
URL:https://www.kidsave.org/event/volunteer-orientation-11-10/
LOCATION:Online Webinar
CATEGORIES:Kidsave Special Events, Galas, and Fundraisers
ATTACH;FMTTYPE=image/jpeg:https://www.kidsave.org/wp-content/uploads/2023/03/CalendarVolunteer.jpg.optimal.jpg
ORGANIZER;CN="Jeanette Roman":MAILTO:jeanette@kidsave.org
END:VEVENT
BEGIN:VEVENT
DTSTART;TZID=America/Los_Angeles:20261208T160000
DTEND;TZID=America/Los_Angeles:20261208T170000
DTSTAMP:20260423T201838
CREATED:20251212T195812Z
LAST-MODIFIED:20260414T203627Z
UID:42629-1796745600-1796749200@www.kidsave.org
SUMMARY:Kidsave Volunteer Orientation
DESCRIPTION:Learn more about Kidsave and all of our volunteer opportunities by attending one of our live webinar orientations.\n\nRSVP BELOW – Please note – Pacific Time Zone\n\nOrientations are a brief overview of the Kidsave programs and how you can get involved as a Volunteer.\n\n\nDETAILS\n\nA link will be provided via email to all registered participants.
URL:https://www.kidsave.org/event/volunteer-orientation-12-08/
LOCATION:Online Webinar
CATEGORIES:Kidsave Special Events, Galas, and Fundraisers
ATTACH;FMTTYPE=image/jpeg:https://www.kidsave.org/wp-content/uploads/2023/03/CalendarVolunteer.jpg.optimal.jpg
ORGANIZER;CN="Jeanette Roman":MAILTO:jeanette@kidsave.org
END:VEVENT
END:VCALENDAR