BEGIN:VCALENDAR
VERSION:2.0
PRODID:-//Kidsave - ECPv6.15.20//NONSGML v1.0//EN
CALSCALE:GREGORIAN
METHOD:PUBLISH
X-WR-CALNAME:Kidsave
X-ORIGINAL-URL:https://www.kidsave.org
X-WR-CALDESC:Events for Kidsave
REFRESH-INTERVAL;VALUE=DURATION:PT1H
X-Robots-Tag:noindex
X-PUBLISHED-TTL:PT1H
BEGIN:VTIMEZONE
TZID:America/New_York
BEGIN:DAYLIGHT
TZOFFSETFROM:-0500
TZOFFSETTO:-0400
TZNAME:EDT
DTSTART:20250309T070000
END:DAYLIGHT
BEGIN:STANDARD
TZOFFSETFROM:-0400
TZOFFSETTO:-0500
TZNAME:EST
DTSTART:20251102T060000
END:STANDARD
BEGIN:DAYLIGHT
TZOFFSETFROM:-0500
TZOFFSETTO:-0400
TZNAME:EDT
DTSTART:20260308T070000
END:DAYLIGHT
BEGIN:STANDARD
TZOFFSETFROM:-0400
TZOFFSETTO:-0500
TZNAME:EST
DTSTART:20261101T060000
END:STANDARD
BEGIN:DAYLIGHT
TZOFFSETFROM:-0500
TZOFFSETTO:-0400
TZNAME:EDT
DTSTART:20270314T070000
END:DAYLIGHT
BEGIN:STANDARD
TZOFFSETFROM:-0400
TZOFFSETTO:-0500
TZNAME:EST
DTSTART:20271107T060000
END:STANDARD
END:VTIMEZONE
BEGIN:VEVENT
DTSTART;TZID=America/New_York:20260710T190000
DTEND;TZID=America/New_York:20260710T200000
DTSTAMP:20260421T025058
CREATED:20260331T205104Z
LAST-MODIFIED:20260331T205104Z
UID:44210-1783710000-1783713600@www.kidsave.org
SUMMARY:Virginia Weekend Miracles Orientation
DESCRIPTION:Learn more about the Weekend Miracles Virginia a program of Kidsave. \nLearn more about Kidsave and the Weekend Miracles Virginia program by attending one of our webinar orientations.\n\nRSVP BELOW\n\nOrientations are a brief overview of the Weekend Miracles Virginia program and how you can get involved as a Host or Volunteer.\n Attending an orientation is also the first step to participating in one of our Kidsave Weekend Miracles advocacy events.\n\nOnce you have RSVP’d below\, please be sure to view our Weekend Miracles video by clicking the link below:\nView Weekend Miracles Video\n\nHOW TO ATTEND THE MICROSOFT TEAMS MEETING\nAfter registering\, you will receive a confirmation email containing information about joining the meeting.
URL:https://www.kidsave.org/event/va-wm-orientation-7-10/
LOCATION:Online Webinar
CATEGORIES:Weekend Miracles,Weekend Miracles Orientation,Weekend Miracles Virginia
ATTACH;FMTTYPE=image/png:https://www.kidsave.org/wp-content/uploads/2024/08/Calendar-WM-Virginia-Programs.png
ORGANIZER;CN="Elodie Njoke Massy":MAILTO:elodie@kidsave.org
END:VEVENT
BEGIN:VEVENT
DTSTART;TZID=America/New_York:20260714T190000
DTEND;TZID=America/New_York:20260714T200000
DTSTAMP:20260421T025058
CREATED:20260331T205704Z
LAST-MODIFIED:20260331T205704Z
UID:44212-1784055600-1784059200@www.kidsave.org
SUMMARY:Virginia Weekend Miracles Orientation
DESCRIPTION:Learn more about the Weekend Miracles Virginia a program of Kidsave. \nLearn more about Kidsave and the Weekend Miracles Virginia program by attending one of our webinar orientations.\n\nRSVP BELOW\n\nOrientations are a brief overview of the Weekend Miracles Virginia program and how you can get involved as a Host or Volunteer.\n Attending an orientation is also the first step to participating in one of our Kidsave Weekend Miracles advocacy events.\n\nOnce you have RSVP’d below\, please be sure to view our Weekend Miracles video by clicking the link below:\nView Weekend Miracles Video\n\nHOW TO ATTEND THE MICROSOFT TEAMS MEETING\nAfter registering\, you will receive a confirmation email containing information about joining the meeting.
URL:https://www.kidsave.org/event/va-wm-orientation-7-14/
LOCATION:Online Webinar
CATEGORIES:Weekend Miracles,Weekend Miracles Orientation,Weekend Miracles Virginia
ATTACH;FMTTYPE=image/png:https://www.kidsave.org/wp-content/uploads/2024/08/Calendar-WM-Virginia-Programs.png
ORGANIZER;CN="Elodie Njoke Massy":MAILTO:elodie@kidsave.org
END:VEVENT
BEGIN:VEVENT
DTSTART;TZID=America/New_York:20260718T120000
DTEND;TZID=America/New_York:20260718T140000
DTSTAMP:20260421T025058
CREATED:20260408T214808Z
LAST-MODIFIED:20260408T214808Z
UID:44381-1784376000-1784383200@www.kidsave.org
SUMMARY:Virginia Weekend Miracles Meet the Kids
DESCRIPTION:Come ready to have fun while making connections! \nIn order to participate\, families must have completed the following prior to the event: \nWeekend Miracles Orientation\nWeekend Miracles Host Application\nHave been contacted and approved to attend by a Kidsave staff member \nHow to Attend the Event: \nRSVP below \nElodie Njoke – phone: (804) 294-0831  Email: elodie@kidsave.org. \nPrerequisites must be completed before attending. \nLocation will be provided via email the week of the event.
URL:https://www.kidsave.org/event/va-wm-meet-the-kids-7-18/
LOCATION:Richmond\, VA\, Richmond\, VA\, United States
CATEGORIES:Weekend Miracles,Weekend Miracles Connection Event,Weekend Miracles Virginia
ATTACH;FMTTYPE=image/png:https://www.kidsave.org/wp-content/uploads/2024/08/Calendar-WM-Virginia-Programs.png
ORGANIZER;CN="Janna Rudolf":MAILTO:janna@kidsave.org
END:VEVENT
END:VCALENDAR