BEGIN:VCALENDAR
VERSION:2.0
PRODID:-//Kidsave - ECPv6.15.20//NONSGML v1.0//EN
CALSCALE:GREGORIAN
METHOD:PUBLISH
X-WR-CALNAME:Kidsave
X-ORIGINAL-URL:https://www.kidsave.org
X-WR-CALDESC:Events for Kidsave
REFRESH-INTERVAL;VALUE=DURATION:PT1H
X-Robots-Tag:noindex
X-PUBLISHED-TTL:PT1H
BEGIN:VTIMEZONE
TZID:America/Los_Angeles
BEGIN:DAYLIGHT
TZOFFSETFROM:-0800
TZOFFSETTO:-0700
TZNAME:PDT
DTSTART:20250309T100000
END:DAYLIGHT
BEGIN:STANDARD
TZOFFSETFROM:-0700
TZOFFSETTO:-0800
TZNAME:PST
DTSTART:20251102T090000
END:STANDARD
BEGIN:DAYLIGHT
TZOFFSETFROM:-0800
TZOFFSETTO:-0700
TZNAME:PDT
DTSTART:20260308T100000
END:DAYLIGHT
BEGIN:STANDARD
TZOFFSETFROM:-0700
TZOFFSETTO:-0800
TZNAME:PST
DTSTART:20261101T090000
END:STANDARD
BEGIN:DAYLIGHT
TZOFFSETFROM:-0800
TZOFFSETTO:-0700
TZNAME:PDT
DTSTART:20270314T100000
END:DAYLIGHT
BEGIN:STANDARD
TZOFFSETFROM:-0700
TZOFFSETTO:-0800
TZNAME:PST
DTSTART:20271107T090000
END:STANDARD
END:VTIMEZONE
BEGIN:VEVENT
DTSTART;TZID=America/Los_Angeles:20260528T173000
DTEND;TZID=America/Los_Angeles:20260528T210000
DTSTAMP:20260421T005605
CREATED:20251203T173335Z
LAST-MODIFIED:20260414T203317Z
UID:41785-1779989400-1780002000@www.kidsave.org
SUMMARY:Kidsave Miracles Gala - DC
DESCRIPTION:Kidsave Miracles Gala – DC \nAt Kidsave\, all connections begin with “Yes.”\nFrom our kids bravely saying “Yes” to finding a mentor or adoptive family.\nTo our hosts and families\, stepping up and saying “Yes” to opening their hearts and homes\nand making a positive impact in the life of a child in care. \n“Yes” is the start of something new.\nThe power to make a difference. \nNow is your chance to say “Yes.” \nJoin us on May 28\, 2026\, at the National Housing Center for a night to say “Yes” to older foster youth.
URL:https://www.kidsave.org/event/gala-dc-2026/
LOCATION:National Housing Center 1201 15th Street\, N.W.\, Washington\, D.C. 20005\, 1201 15th Street NW\, Washington\, DC\, 20005\, United States
CATEGORIES:Kidsave Special Events, Galas, and Fundraisers
ATTACH;FMTTYPE=image/png:https://www.kidsave.org/wp-content/uploads/2025/10/Calander-image-e1764783069568.png
ORGANIZER;CN="Jenny Lawhorn Sammis":MAILTO:jenny@kidsave.org
END:VEVENT
END:VCALENDAR